BEGIN:VCALENDAR
VERSION:2.0
PRODID:-//swoogo.com//NONSGML kigkonsult.se iCalcreator 2.41.90//
CALSCALE:GREGORIAN
UID:33663530-3464-4565-a239-373665643937
BEGIN:VEVENT
UID:ca035dfa9c98cfcadce73f83c0958b8e65e6ac21@swoogo.com
DTSTAMP:20260423T170851Z
DESCRIPTION:Sustainability\, Innovation and Technology as Drivers of Growth
DTSTART:20240520T080000Z
DTEND:20240521T160000Z
LAST-MODIFIED:20260423T170851Z
LOCATION:Guildhall Art Gallery\, Guildhall Yard\, London EC2V 5AE\, United 
 Kingdom
SEQUENCE:0
STATUS:CONFIRMED
SUMMARY:City Week 2024
TRANSP:OPAQUE
X-ALT-DESC;FMTTYPE=text/html:<p><span style='font-size:11pt\;'><span style=
 'font-family:Calibri\, sans-serif\;'>Sustainability\, Innovation and Techn
 ology as Drivers of Growth</span></span></p>
BEGIN:VALARM
UID:36393638-3463-4265-b563-616533366233
ACTION:DISPLAY
DESCRIPTION:Sustainability\, Innovation and Technology as Drivers of Growth
TRIGGER:-PT15M
END:VALARM
END:VEVENT
END:VCALENDAR
